BEGIN:VCALENDAR
VERSION:2.0
PRODID:-//IDMC Conference - ECPv6.15.20//NONSGML v1.0//EN
CALSCALE:GREGORIAN
METHOD:PUBLISH
X-WR-CALNAME:IDMC Conference
X-ORIGINAL-URL:https://www.idmc.co.id/en
X-WR-CALDESC:Events for IDMC Conference
REFRESH-INTERVAL;VALUE=DURATION:PT1H
X-Robots-Tag:noindex
X-PUBLISHED-TTL:PT1H
BEGIN:VTIMEZONE
TZID:UTC
BEGIN:STANDARD
TZOFFSETFROM:+0000
TZOFFSETTO:+0000
TZNAME:UTC
DTSTART:20250101T000000
END:STANDARD
END:VTIMEZONE
BEGIN:VEVENT
DTSTART;TZID=UTC:20260209T120000
DTEND;TZID=UTC:20260209T170000
DTSTAMP:20260424T014339
CREATED:20260204T050021Z
LAST-MODIFIED:20260206T091228Z
UID:10000002-1770638400-1770656400@www.idmc.co.id
SUMMARY:Nge-Ba-Kmie
DESCRIPTION: \n\n\n\nNGE-BA-KMIE (Networking Bahas Marketing) is a casual yet powerful business networking session by IDMC — where real marketing strategies are discussed over great food and coffee.Industry practitioners share practical insights\, real case studies\, and proven growth tactics in a relaxed\, high-value environment. \n\n\n\nLearn\, connect\, and scale smarter — without boring seminars.Because the best business ideas often start at the table. \n\n\n\n \n\n\n\n\nRegister\n\n\n\n\n 
URL:https://www.idmc.co.id/en/event/nge-ba-kmie/
LOCATION:SEDJUK BAKMI & COFFEE SERPONG\, Jl. Scientia Boulevard\, Curug Sangereng\, Kecamatan Kelapa Dua\, Kabupaten Tangerang\, Banten 15810\, Jakarta\, Tangerang\, Banten\, 15810\, Indonesia
CATEGORIES:Seminar
ATTACH;FMTTYPE=image/jpeg:https://www.idmc.co.id/wp-content/uploads/2026/02/6059895364136930964.jpg
END:VEVENT
BEGIN:VEVENT
DTSTART;TZID=UTC:20260214T000000
DTEND;TZID=UTC:20260214T235959
DTSTAMP:20260424T014339
CREATED:20260204T030000Z
LAST-MODIFIED:20260410T074106Z
UID:10000001-1771027200-1771113599@www.idmc.co.id
SUMMARY:Who Wants To Be An Affiliuner
DESCRIPTION:Who Wants To Be An Affiliuner is an educational roadshow by IDMC featuring top affiliate gurus who will reveal proven strategies to build real income through affiliate marketing.From mindset and product selection to traffic mastery and profit scaling\, everything is shared directly by industry practitioners. \nA full day of insights\, networking\, and real opportunities in the digital economy.It’s time to level up from trying to earning — and become a serious Affiliuner. \n\n\n\n\n\n\n\nRegister Now
URL:https://www.idmc.co.id/en/event/affiluner/
LOCATION:JAMBULUWUK THAMRIN HOTEL\, Jl. Riau No.5\, RT.9/RW.7\, Gondangdia\, Kec. Menteng\, Kota Jakarta Pusat\, Daerah Khusus Ibukota Jakarta 10350\, DKI Jakarta\, 10350\, Indonesia
CATEGORIES:Seminar
ATTACH;FMTTYPE=image/jpeg:https://www.idmc.co.id/wp-content/uploads/2026/02/Who-Wants-to-be-Affiliuner-9-16.jpg
END:VEVENT
END:VCALENDAR