BEGIN:VCALENDAR
VERSION:2.0
PRODID:-//IDMC Conference - ECPv6.15.20//NONSGML v1.0//EN
CALSCALE:GREGORIAN
METHOD:PUBLISH
X-WR-CALNAME:IDMC Conference
X-ORIGINAL-URL:https://www.idmc.co.id
X-WR-CALDESC:Events for IDMC Conference
REFRESH-INTERVAL;VALUE=DURATION:PT1H
X-Robots-Tag:noindex
X-PUBLISHED-TTL:PT1H
BEGIN:VTIMEZONE
TZID:UTC
BEGIN:STANDARD
TZOFFSETFROM:+0000
TZOFFSETTO:+0000
TZNAME:UTC
DTSTART:20250101T000000
END:STANDARD
END:VTIMEZONE
BEGIN:VEVENT
DTSTART;TZID=UTC:20260423T130000
DTEND;TZID=UTC:20260423T170000
DTSTAMP:20260421T100923
CREATED:20260326T064124Z
LAST-MODIFIED:20260403T113020Z
UID:10000003-1776949200-1776963600@www.idmc.co.id
SUMMARY:IDMC Goes to Jogja
DESCRIPTION:IDMC Roadshow Goes to Yogyakarta is an exclusive mini conference bringing together top digital marketing experts to share real strategies in ads\, AI\, and business growth. From multi-channel optimization to performance marketing and brand building\, insights are delivered directly by industry practitioners. \n\n\n\nA focused session of learning\, networking\, and real opportunities—designed to help marketers\, business owners\, and creators adapt faster and scale smarter in today’s digital landscape. \n\n\n\n\n\n\n\n\n\n\nRegister Now
URL:https://www.idmc.co.id/event/idmc-goes-to-jogja/
LOCATION:Tip Tap Toe\, Tegal\, Jl. Palagan Tentara Pelajar\, Tegal Rejo\, Sariharjo\, Kec. Sleman\, Kabupaten Sleman\, Daerah Istimewa Yogyakarta 55581\, Sleman\, DI Yogyakarta\, Indonesia
CATEGORIES:Seminar
ATTACH;FMTTYPE=image/jpeg:https://www.idmc.co.id/wp-content/uploads/2026/03/IDMC-Roadshow-Jogja.jpeg
END:VEVENT
END:VCALENDAR